BEGIN:VCALENDAR
VERSION:2.0
PRODID:-//wp-events-plugin.com//7.2.3.1//EN
TZID:Europe/Amsterdam
X-WR-TIMEZONE:Europe/Amsterdam
BEGIN:VEVENT
UID:1864@stretchers.nl
DTSTART;TZID=Europe/Amsterdam:20240508T193000
DTEND;TZID=Europe/Amsterdam:20240508T220000
DTSTAMP:20240508T063016Z
URL:https://www.stretchers.nl/events/30-seconds-tournament
SUMMARY:30 seconds tournament
DESCRIPTION:What is the most popular game during game night? Indeed\, 30 se
 conds!\n\nOn Wednesday evening\, May 8th\, enthusiasts of this game can te
 st their luck: we are organizing a tournament. In teams of 2\, multiple ro
 unds  and a finale will be played. Participation is free\, and there's a 
 prize! We will play in both Dutch and English\, so the tournament is acces
 sible to everyone. It will be held in the Skybox on campus starting from 1
 9:30.\n\n\n\n\n\n\n\n\n\n\n\n\n\nSign up:\n\n• If you already have a par
 tner\, mention your partner in the comments. Both team members should sign
  up.\n\n• If you don’t have a partner and want to be matched\, mention
  this in the comments.\n\n• You can bring a +1 who is not a member as a 
 partner\, mention this\n\nSign-up deadline: May 3\, 23:59\n\n\n\n\n\n\n\n\
 n\n\n\n\n\n\n\n\n\n\n\n\n\n\n\n\n\n\n\n\n
CATEGORIES:EC
LOCATION:SkyBox\, Calslaan 60-161\, Enschede\, 7522MG\, Netherlands
X-APPLE-STRUCTURED-LOCATION;VALUE=URI;X-ADDRESS=Calslaan 60-161\, Enschede\
 , 7522MG\, Netherlands;X-APPLE-RADIUS=100;X-TITLE=SkyBox:geo:0,0
END:VEVENT
BEGIN:VTIMEZONE
TZID:Europe/Amsterdam
X-LIC-LOCATION:Europe/Amsterdam
BEGIN:DAYLIGHT
DTSTART:20240331T030000
TZOFFSETFROM:+0100
TZOFFSETTO:+0200
TZNAME:CEST
END:DAYLIGHT
END:VTIMEZONE
END:VCALENDAR