BEGIN:VCALENDAR
VERSION:2.0
PRODID:-//wp-events-plugin.com//7.2.3.1//EN
TZID:Europe/Amsterdam
X-WR-TIMEZONE:Europe/Amsterdam
BEGIN:VEVENT
UID:1171@stretchers.nl
DTSTART;TZID=Europe/Amsterdam:20201105T200000
DTEND;TZID=Europe/Amsterdam:20201105T233000
DTSTAMP:20201030T162532Z
URL:https://www.stretchers.nl/events/annas-testevent
SUMMARY:Anna's testevent
DESCRIPTION:werkt dit
CATEGORIES:EC
END:VEVENT
BEGIN:VTIMEZONE
TZID:Europe/Amsterdam
X-LIC-LOCATION:Europe/Amsterdam
BEGIN:STANDARD
DTSTART:20201025T020000
TZOFFSETFROM:+0200
TZOFFSETTO:+0100
TZNAME:CET
END:STANDARD
END:VTIMEZONE
END:VCALENDAR