BEGIN:VCALENDAR
VERSION:2.0
PRODID:-//wp-events-plugin.com//7.2.3.1//EN
TZID:Europe/Amsterdam
X-WR-TIMEZONE:Europe/Amsterdam
BEGIN:VEVENT
UID:1873@stretchers.nl
DTSTART;TZID=Europe/Amsterdam:20240902T201500
DTEND;TZID=Europe/Amsterdam:20240902T214500
DTSTAMP:20240829T111429Z
URL:https://www.stretchers.nl/events/badminton-dodgeball-10406
SUMMARY:Badminton Dodgeball
DESCRIPTION:Badminton Dodgeball intro training.\n\n&nbsp\;\n\nIf you would 
 like to join this training as a non-member\, please send an email to bestu
 ur@stretchers.nl stating your name\, and which training(s) you would like 
 to join.\n\nIf you do not have a Union Card yet (which is mandatory for jo
 ining sports associations)\, you can enter the sports center via the disab
 led entrance near the lift. We kindly ask our members to use the front gat
 es with their Union Cards.
CATEGORIES:Introduction Training,Training
LOCATION:Zaal 1\, Student Union Boulevard\, Enschede\, 7522\, 
GEO:0.000000;0.000000
X-APPLE-STRUCTURED-LOCATION;VALUE=URI;X-ADDRESS=Student Union Boulevard\, E
 nschede\, 7522\, ;X-APPLE-RADIUS=100;X-TITLE=Zaal 1:geo:0.000000,0.000000
END:VEVENT
BEGIN:VTIMEZONE
TZID:Europe/Amsterdam
X-LIC-LOCATION:Europe/Amsterdam
BEGIN:DAYLIGHT
DTSTART:20240331T030000
TZOFFSETFROM:+0100
TZOFFSETTO:+0200
TZNAME:CEST
END:DAYLIGHT
END:VTIMEZONE
END:VCALENDAR