BEGIN:VCALENDAR
VERSION:2.0
PRODID:-//wp-events-plugin.com//7.2.3.1//EN
TZID:Europe/Amsterdam
X-WR-TIMEZONE:Europe/Amsterdam
BEGIN:VEVENT
UID:1923@stretchers.nl
DTSTART;TZID=Europe/Amsterdam:20241028T214500
DTEND;TZID=Europe/Amsterdam:20241028T234500
DTSTAMP:20241027T150038Z
URL:https://www.stretchers.nl/events/gamenight-10
SUMMARY:GameNight
DESCRIPTION:
CATEGORIES:EC
LOCATION:Sports Canteen\, De Hems 20\, Enschede\, 7522NL\, Netherlands
X-APPLE-STRUCTURED-LOCATION;VALUE=URI;X-ADDRESS=De Hems 20\, Enschede\, 752
 2NL\, Netherlands;X-APPLE-RADIUS=100;X-TITLE=Sports Canteen:geo:0,0
END:VEVENT
BEGIN:VTIMEZONE
TZID:Europe/Amsterdam
X-LIC-LOCATION:Europe/Amsterdam
BEGIN:STANDARD
DTSTART:20241027T020000
TZOFFSETFROM:+0200
TZOFFSETTO:+0100
TZNAME:CET
END:STANDARD
END:VTIMEZONE
END:VCALENDAR