BEGIN:VCALENDAR
VERSION:2.0
PRODID:-//wp-events-plugin.com//7.2.3.1//EN
TZID:Europe/Amsterdam
X-WR-TIMEZONE:Europe/Amsterdam
BEGIN:VEVENT
UID:1924@stretchers.nl
DTSTART;TZID=Europe/Amsterdam:20241114T200000
DTEND;TZID=Europe/Amsterdam:20241114T220000
DTSTAMP:20241104T183142Z
URL:https://www.stretchers.nl/events/gamenight-11
SUMMARY:GameNight
DESCRIPTION:Danique
CATEGORIES:EC
LOCATION:Sportscanteen\, De Hems 20\, Enschede\, Overijssel\, Netherlands
X-APPLE-STRUCTURED-LOCATION;VALUE=URI;X-ADDRESS=De Hems 20\, Enschede\, Ove
 rijssel\, Netherlands;X-APPLE-RADIUS=100;X-TITLE=Sportscanteen:geo:0,0
END:VEVENT
BEGIN:VTIMEZONE
TZID:Europe/Amsterdam
X-LIC-LOCATION:Europe/Amsterdam
BEGIN:STANDARD
DTSTART:20241027T020000
TZOFFSETFROM:+0200
TZOFFSETTO:+0100
TZNAME:CET
END:STANDARD
END:VTIMEZONE
END:VCALENDAR