BEGIN:VCALENDAR
VERSION:2.0
PRODID:-//wp-events-plugin.com//7.2.3.1//EN
TZID:Europe/Amsterdam
X-WR-TIMEZONE:Europe/Amsterdam
BEGIN:VEVENT
UID:1544@stretchers.nl
DTSTART;TZID=Europe/Amsterdam:20211219T130000
DTEND;TZID=Europe/Amsterdam:20211219T150000
DTSTAMP:20211207T080925Z
URL:https://www.stretchers.nl/events/ice-skating-4
SUMMARY:Ice Skating
DESCRIPTION:The perfect opportunity to make up for the beers and snacks fro
 m the game night\, and obviously also an opportunity for some great fun! C
 osts are about 7 euros\, provided you bring your student card as that give
 s some discount. Furthermore\, do not forget to bring gloves (due to safet
 y reasons) and some warm clothing\, the hall is only about 5 degrees. Note
 : you need to arrange ice skates yourselves\; you can hire these if you wa
 nt (costs about 6 euros).
CATEGORIES:EC
LOCATION:IJsbaan Twente\, Colosseum 90\, Enschede\, Netherlands
X-APPLE-STRUCTURED-LOCATION;VALUE=URI;X-ADDRESS=Colosseum 90\, Enschede\, N
 etherlands;X-APPLE-RADIUS=100;X-TITLE=IJsbaan Twente:geo:0,0
END:VEVENT
BEGIN:VTIMEZONE
TZID:Europe/Amsterdam
X-LIC-LOCATION:Europe/Amsterdam
BEGIN:STANDARD
DTSTART:20211031T020000
TZOFFSETFROM:+0200
TZOFFSETTO:+0100
TZNAME:CET
END:STANDARD
END:VTIMEZONE
END:VCALENDAR