BEGIN:VCALENDAR
VERSION:2.0
PRODID:-//wp-events-plugin.com//7.2.3.1//EN
TZID:Europe/Amsterdam
X-WR-TIMEZONE:Europe/Amsterdam
BEGIN:VEVENT
UID:1585@stretchers.nl
DTSTART;TZID=Europe/Amsterdam:20220215T200000
DTEND;TZID=Europe/Amsterdam:20220215T220000
DTSTAMP:20220201T175813Z
URL:https://www.stretchers.nl/events/ice-skating-5
SUMMARY:Ice Skating
DESCRIPTION:Costs are about 7 euros\, provided you bring your student card 
 as that gives some discount. Furthermore\, do not forget to bring gloves (
 due to safety reasons) and some warm clothing\, the hall is only about 5 d
 egrees. Note: you need to arrange ice skates yourselves\; you can hire the
 se if you want (costs about 6 euros).\n\nSign-up deadline: 14 Feburary 23:
 59
CATEGORIES:EC
LOCATION:IJsbaan Twente\, Colosseum 90\, Enschede\, Netherlands
X-APPLE-STRUCTURED-LOCATION;VALUE=URI;X-ADDRESS=Colosseum 90\, Enschede\, N
 etherlands;X-APPLE-RADIUS=100;X-TITLE=IJsbaan Twente:geo:0,0
END:VEVENT
BEGIN:VTIMEZONE
TZID:Europe/Amsterdam
X-LIC-LOCATION:Europe/Amsterdam
BEGIN:STANDARD
DTSTART:20211031T020000
TZOFFSETFROM:+0200
TZOFFSETTO:+0100
TZNAME:CET
END:STANDARD
END:VTIMEZONE
END:VCALENDAR