BEGIN:VCALENDAR
VERSION:2.0
PRODID:-//wp-events-plugin.com//7.2.3.1//EN
TZID:Europe/Amsterdam
X-WR-TIMEZONE:Europe/Amsterdam
BEGIN:VEVENT
UID:1175@stretchers.nl
DTSTART;TZID=Europe/Amsterdam:20201123T191500
DTEND;TZID=Europe/Amsterdam:20201123T203000
DTSTAMP:20201123T161657Z
URL:https://www.stretchers.nl/events/indoor-training
SUMMARY:Indoor Training - Signup only
DESCRIPTION:This training is indoor\, but this week not in our regular spor
 tshall\, but in Sportshall 4 (SC4)\, which is also known as the "houten za
 al". Our training times are also different just this week\, from 19:15 to 
 20:30.\n\nThis training is under the government regulations of 13 october 
 (dutch: https://www.rijksoverheid.nl/onderwerpen/coronavirus-covid-19/open
 baar-en-dagelijks-leven/sport \,  english: https://www.government.nl/late
 st/news/2020/11/17/partial-lockdown-to-continue )\n\nWe have also updated 
 our own sports protocol which you can find here. Please read this in full 
 before coming to training\, but in short: when placing your stuff\, please
  go as far to the back as possible and spread it out\, keep 1.5m distance 
 at all times\, you will be assigned groups at the start of training\, maxi
 mum group of 4\, do not mingle with other groups.\n\nThe amount of spots i
 s limited to 13!
CATEGORIES:Training
LOCATION:SC 4\, Sports Centre\, De Hems 20\, Enschede\, 7522NL\, Netherland
 s
X-APPLE-STRUCTURED-LOCATION;VALUE=URI;X-ADDRESS=De Hems 20\, Enschede\, 752
 2NL\, Netherlands;X-APPLE-RADIUS=100;X-TITLE=SC 4\, Sports Centre:geo:0,0
END:VEVENT
BEGIN:VTIMEZONE
TZID:Europe/Amsterdam
X-LIC-LOCATION:Europe/Amsterdam
BEGIN:STANDARD
DTSTART:20201025T020000
TZOFFSETFROM:+0200
TZOFFSETTO:+0100
TZNAME:CET
END:STANDARD
END:VTIMEZONE
END:VCALENDAR