BEGIN:VCALENDAR
VERSION:2.0
PRODID:-//wp-events-plugin.com//7.2.3.1//EN
TZID:Europe/Amsterdam
X-WR-TIMEZONE:Europe/Amsterdam
BEGIN:VEVENT
UID:1700@stretchers.nl
DTSTART;TZID=Europe/Amsterdam:20230525T183000
DTEND;TZID=Europe/Amsterdam:20230525T200000
DTSTAMP:20230508T170402Z
URL:https://www.stretchers.nl/events/kickbal-ninabal-9225
SUMMARY:Special training: Spikeball
DESCRIPTION:During this special training\, Leap (the spikeball association 
 at the university) will host a training on spikeball.\n\nFor practical rea
 sons\, please register before the training such that we have an accurate e
 stimate of the number of people joining. Registering can be done until May
  24th\, 18:30.
CATEGORIES:Training
LOCATION:Multi Baseball field\, Student Union Boulevard\, Enschede\, 7522\,
  
GEO:0.000000;0.000000
X-APPLE-STRUCTURED-LOCATION;VALUE=URI;X-ADDRESS=Student Union Boulevard\, E
 nschede\, 7522\, ;X-APPLE-RADIUS=100;X-TITLE=Multi Baseball field:geo:0.00
 0000,0.000000
END:VEVENT
BEGIN:VTIMEZONE
TZID:Europe/Amsterdam
X-LIC-LOCATION:Europe/Amsterdam
BEGIN:DAYLIGHT
DTSTART:20230326T030000
TZOFFSETFROM:+0100
TZOFFSETTO:+0200
TZNAME:CEST
END:DAYLIGHT
END:VTIMEZONE
END:VCALENDAR