BEGIN:VCALENDAR
VERSION:2.0
PRODID:-//wp-events-plugin.com//7.2.3.1//EN
TZID:Europe/Amsterdam
X-WR-TIMEZONE:Europe/Amsterdam
BEGIN:VEVENT
UID:1565@stretchers.nl
DTSTART;TZID=Europe/Amsterdam:20220207T201500
DTEND;TZID=Europe/Amsterdam:20220207T214500
DTSTAMP:20220201T175813Z
URL:https://www.stretchers.nl/events/korfbal-workshop
SUMMARY:Korfbal Workshop
DESCRIPTION:This training will be a korfbal workshop\, given by the korfbal
  association Vakgericht!\n\nWe will spend the entire training on Korfbal\,
  so we can take the time to learn the sport and have some exercises.\n\nSi
 gn up to let us know you will be there!
CATEGORIES:Training
LOCATION:SC1\, Student Union Boulevard\, Enschede\, 7522\, 
GEO:0.000000;0.000000
X-APPLE-STRUCTURED-LOCATION;VALUE=URI;X-ADDRESS=Student Union Boulevard\, E
 nschede\, 7522\, ;X-APPLE-RADIUS=100;X-TITLE=SC1:geo:0.000000,0.000000
END:VEVENT
BEGIN:VTIMEZONE
TZID:Europe/Amsterdam
X-LIC-LOCATION:Europe/Amsterdam
BEGIN:STANDARD
DTSTART:20211031T020000
TZOFFSETFROM:+0200
TZOFFSETTO:+0100
TZNAME:CET
END:STANDARD
END:VTIMEZONE
END:VCALENDAR