BEGIN:VCALENDAR
VERSION:2.0
PRODID:-//wp-events-plugin.com//7.2.3.1//EN
TZID:Europe/Amsterdam
X-WR-TIMEZONE:Europe/Amsterdam
BEGIN:VEVENT
UID:1170@stretchers.nl
DTSTART;TZID=Europe/Amsterdam:20201023T193000
DTEND;TZID=Europe/Amsterdam:20201023T230000
DTSTAMP:20201017T191842Z
URL:https://www.stretchers.nl/events/online-escape-room
SUMMARY:[Online] Escape Room
DESCRIPTION:We cannot convene for a spooky walk in person\, but there are o
 ther ways to be mysterious!\n\nInstead we will attempt an online escape ro
 om together\, which we can do from the comfort of home\, from behind the s
 creen. In small teams we will tackle a mystery and uncover the mysteries o
 f the past. It will definitely be fun!\n\nYou do not need special preparat
 ion\, but during the activity we will use discord to communicate\, the lin
 k for which will be posted in the whatsapp chat. Please sign-up so that we
  have an idea how many people participate\, but if you want to join last-m
 inute\, you are definitely welcome.
END:VEVENT
BEGIN:VTIMEZONE
TZID:Europe/Amsterdam
X-LIC-LOCATION:Europe/Amsterdam
BEGIN:DAYLIGHT
DTSTART:20200329T030000
TZOFFSETFROM:+0100
TZOFFSETTO:+0200
TZNAME:CEST
END:DAYLIGHT
END:VTIMEZONE
END:VCALENDAR