BEGIN:VCALENDAR
VERSION:2.0
PRODID:-//wp-events-plugin.com//7.2.3.1//EN
TZID:Europe/Amsterdam
X-WR-TIMEZONE:Europe/Amsterdam
BEGIN:VEVENT
UID:1650@stretchers.nl
DTSTART;TZID=Europe/Amsterdam:20230313T201500
DTEND;TZID=Europe/Amsterdam:20230313T214500
DTSTAMP:20221002T141608Z
URL:https://www.stretchers.nl/events/quadunihockey-quadrifloorball-tchoukb
 al-9175
SUMMARY:Quadunihockey (Quadrifloorball) Tchoukbal
DESCRIPTION:Quadunihockey (Quadrifloorball) Tchoukbal
CATEGORIES:Training
LOCATION:SC1\, Student Union Boulevard\, Enschede\, 7522\, 
GEO:0.000000;0.000000
X-APPLE-STRUCTURED-LOCATION;VALUE=URI;X-ADDRESS=Student Union Boulevard\, E
 nschede\, 7522\, ;X-APPLE-RADIUS=100;X-TITLE=SC1:geo:0.000000,0.000000
END:VEVENT
BEGIN:VTIMEZONE
TZID:Europe/Amsterdam
X-LIC-LOCATION:Europe/Amsterdam
BEGIN:STANDARD
DTSTART:20221030T020000
TZOFFSETFROM:+0200
TZOFFSETTO:+0100
TZNAME:CET
END:STANDARD
END:VTIMEZONE
END:VCALENDAR