BEGIN:VCALENDAR
VERSION:2.0
PRODID:-//wp-events-plugin.com//7.2.3.1//EN
TZID:Europe/Amsterdam
X-WR-TIMEZONE:Europe/Amsterdam
BEGIN:VEVENT
UID:1085@stretchers.nl
DTSTART;TZID=Europe/Amsterdam;VALUE=DATE:20191101
DTEND;TZID=Europe/Amsterdam;VALUE=DATE:20191102
DTSTAMP:20191030T114836Z
URL:https://www.stretchers.nl/events/shirts
SUMMARY:Shirts!
DESCRIPTION:\n\nAs the stretchers\, we want to get shirts for our members! 
 Shirts will feature your name and the stretchers logo on the front and wil
 l show the logo in large on the back (see mock-up above).\n\nIf you want o
 ne\, then enroll yourself down below\, and also\, the more people sign up\
 , the cheaper the shirt will be!\n\nThus\, until the deadline the price is
  just an approximation\, but enrolling is definite. If you are unsure or h
 ave questions you can send us an email at promo@stretchers.nl.\n\n&nbsp\;\
 n\nPlease also note your size in the comment box when enrolling!
END:VEVENT
BEGIN:VTIMEZONE
TZID:Europe/Amsterdam
X-LIC-LOCATION:Europe/Amsterdam
BEGIN:STANDARD
DTSTART:20191027T020000
TZOFFSETFROM:+0200
TZOFFSETTO:+0100
TZNAME:CET
END:STANDARD
END:VTIMEZONE
END:VCALENDAR