BEGIN:VCALENDAR
VERSION:2.0
PRODID:-//wp-events-plugin.com//7.2.3.1//EN
TZID:Europe/Amsterdam
X-WR-TIMEZONE:Europe/Amsterdam
BEGIN:VEVENT
UID:1543@stretchers.nl
DTSTART;TZID=Europe/Amsterdam:20211128T140000
DTEND;TZID=Europe/Amsterdam:20211128T170000
DTSTAMP:20211116T161507Z
URL:https://www.stretchers.nl/events/sinterklaas-5
SUMMARY:Sinterklaas
DESCRIPTION:Sinterklaas has arrived again in the country\, so it is time fo
 r the annual Sinterklaas activity! The activity will take place on Sunday\
 , November 28th from 14:00\, location to be determined. During the activit
 y\, we will play the “Sinterklaas dobbelspel” (freely translated as th
 e dice game) and\, importantly\, have a lot of fun. To play the game\, ple
 ase bring three gifts worth in total about €5. It doesn’t really matte
 r what the gift is or how much money you spend on it\, but this is a rough
  guideline.\nHowever\, there is one gift that is generally not that much a
 ppreciated\, and that is an infection with COVID. To minimise the risk of 
 you receiving this gift\, we take the following measures:\n- The event wil
 l be held on a Sunday\, such that we can finish before 18:00 (as demanded 
 by new government regulations)\;\n- The event will be “Testen voor Toega
 ng”\, so make sure to bring your QR-code and ID!\n- We will make sure th
 ere is sufficient and spacious seating\, to avoid everyone walking through
  one another\n- We will make sure to not put the kruidnoten in one big jar
 \, to avoid them from becoming COVID-noten\nHowever\, we also need your he
 lp to make it a safe event. Therefore\, please register before Wednesday\,
  November 24th\, 23:59. This is a little early\, but gives us some time to
  take appropriate measures if the group becomes rather large. Furthermore\
 , it goes without saying that you do not come in case you display symptoms
  of an infection.\n\nWe hope to see many of you at the activity!\n\nStretc
 herKlaas and EC-Piet
CATEGORIES:EC
END:VEVENT
BEGIN:VTIMEZONE
TZID:Europe/Amsterdam
X-LIC-LOCATION:Europe/Amsterdam
BEGIN:STANDARD
DTSTART:20211031T020000
TZOFFSETFROM:+0200
TZOFFSETTO:+0100
TZNAME:CET
END:STANDARD
END:VTIMEZONE
END:VCALENDAR