BEGIN:VCALENDAR
VERSION:2.0
PRODID:-//wp-events-plugin.com//7.2.3.1//EN
TZID:Europe/Amsterdam
X-WR-TIMEZONE:Europe/Amsterdam
BEGIN:VEVENT
UID:1865@stretchers.nl
DTSTART;TZID=Europe/Amsterdam:20240710T183000
DTEND;TZID=Europe/Amsterdam:20240710T225900
DTSTAMP:20240707T131343Z
URL:https://www.stretchers.nl/events/stretch-factor
SUMMARY:Stretch-Factor
DESCRIPTION:The academic year is coming to an end and we will close off thi
 s year together. On 10 July we will have a nice evening where we will have
  drinks and play board games. But next to that\, there will also be a show
 : the Stretch-Factor! This show consists of acts performed by our own memb
 ers\, and you can join if you like. If you can play an instrument\, juggle
 \, sing\, write stories\, draw\, dance\, present\, know all capitals of th
 e world or have another talent\, and want to share this with us\, you shou
 ld definitely join! Here is how it works:\n\n 	If you would like to do som
 ething (~5-10 min.)\, fill in this form: https://forms.gle/YTuiK6DmuPS3png
 s8. This is not definitive yet\, so please fill in any idea that you have.
  Deadline is 3 July.\n 	The show is not competitive\, it is just for fun. 
 If you are worried about not being good enough\, don't be! It is a safe sp
 ace.\n 	You can sign up on your own\, but you can also sign up with a grou
 p.\n 	If you are looking for other people to collaborate with\, you can in
 dicate this in the form.\n 	A stage\, piano\, music installation and scree
 n will be available. Any other stuff should be brought by yourself.\n\nIf 
 you are not planning to perform\, you are still very welcome to enjoy the 
 performances and have a nice evening. Please sign-up if you are planning t
 o attend (regardless of whether or not you're performing.).\n\nThe Stretch
 -Factor will take place on 10 July 18:30 in the Skybox on campus. Partici
 pation is free. The shows start at 19:00.\n\n&nbsp\;
CATEGORIES:EC
LOCATION:SkyBox\, Calslaan 60-161\, Enschede\, 7522MG\, Netherlands
X-APPLE-STRUCTURED-LOCATION;VALUE=URI;X-ADDRESS=Calslaan 60-161\, Enschede\
 , 7522MG\, Netherlands;X-APPLE-RADIUS=100;X-TITLE=SkyBox:geo:0,0
END:VEVENT
BEGIN:VTIMEZONE
TZID:Europe/Amsterdam
X-LIC-LOCATION:Europe/Amsterdam
BEGIN:DAYLIGHT
DTSTART:20240331T030000
TZOFFSETFROM:+0100
TZOFFSETTO:+0200
TZNAME:CEST
END:DAYLIGHT
END:VTIMEZONE
END:VCALENDAR