BEGIN:VCALENDAR
VERSION:2.0
PRODID:-//wp-events-plugin.com//7.2.3.1//EN
TZID:Europe/Amsterdam
X-WR-TIMEZONE:Europe/Amsterdam
BEGIN:VEVENT
UID:1083@stretchers.nl
DTSTART;TZID=Europe/Amsterdam:20191216T183000
DTEND;TZID=Europe/Amsterdam:20191216T200000
DTSTAMP:20191204T172123Z
URL:https://www.stretchers.nl/events/teampaaltjesvoetbal-mertebagbal-3461
SUMMARY:Open training: play like a kid!
DESCRIPTION:Do you miss the good old days of just playing sports as a kid\,
  where you just move around and have fun?\nThen we have just the thing for
  you! Relive your younger years with dodgeball\, free for all soccer (paal
 tjesvoetbal) and our own sport: mertebagbal!\n\n&nbsp\;\n\nThis training i
 s open for members and non-members alike!
CATEGORIES:Training
LOCATION:SC 1\, Sportcentre\, Student Union Boulevard\, Enschede\, 7522\, 
GEO:0.000000;0.000000
X-APPLE-STRUCTURED-LOCATION;VALUE=URI;X-ADDRESS=Student Union Boulevard\, E
 nschede\, 7522\, ;X-APPLE-RADIUS=100;X-TITLE=SC 1\, Sportcentre:geo:0.0000
 00,0.000000
END:VEVENT
BEGIN:VTIMEZONE
TZID:Europe/Amsterdam
X-LIC-LOCATION:Europe/Amsterdam
BEGIN:STANDARD
DTSTART:20191027T020000
TZOFFSETFROM:+0200
TZOFFSETTO:+0100
TZNAME:CET
END:STANDARD
END:VTIMEZONE
END:VCALENDAR