BEGIN:VCALENDAR
VERSION:2.0
PRODID:-//wp-events-plugin.com//7.2.3.1//EN
TZID:Europe/Amsterdam
X-WR-TIMEZONE:Europe/Amsterdam
BEGIN:VEVENT
UID:89@stretchers.nl
DTSTART;TZID=Europe/Amsterdam:20151005T183000
DTEND;TZID=Europe/Amsterdam:20151005T200000
DTSTAMP:20150819T071230Z
URL:https://www.stretchers.nl/events/unihockey-volleybal-1220
SUMMARY:Unihockey Volleybal
DESCRIPTION:Unihockey Volleybal
CATEGORIES:Training
LOCATION:Sportzaal 2\, Sporthal\, Student Union Boulevard\, Enschede\, 7522
 \, 
GEO:0.000000;0.000000
X-APPLE-STRUCTURED-LOCATION;VALUE=URI;X-ADDRESS=Student Union Boulevard\, E
 nschede\, 7522\, ;X-APPLE-RADIUS=100;X-TITLE=Sportzaal 2\, Sporthal:geo:0.
 000000,0.000000
END:VEVENT
BEGIN:VTIMEZONE
TZID:Europe/Amsterdam
X-LIC-LOCATION:Europe/Amsterdam
BEGIN:DAYLIGHT
DTSTART:20150329T030000
TZOFFSETFROM:+0100
TZOFFSETTO:+0200
TZNAME:CEST
END:DAYLIGHT
END:VTIMEZONE
END:VCALENDAR